BEGIN:VCALENDAR
VERSION:2.0
PRODID:-//Amis et correspondants du Centre International Blaise Pascal - ECPv6.15.12.2//NONSGML v1.0//EN
CALSCALE:GREGORIAN
METHOD:PUBLISH
X-WR-CALNAME:Amis et correspondants du Centre International Blaise Pascal
X-ORIGINAL-URL:https://amis-et-correspondants-centre-international-blaise-pascal.fr
X-WR-CALDESC:Évènements pour Amis et correspondants du Centre International Blaise Pascal
REFRESH-INTERVAL;VALUE=DURATION:PT1H
X-Robots-Tag:noindex
X-PUBLISHED-TTL:PT1H
BEGIN:VTIMEZONE
TZID:Europe/Paris
BEGIN:DAYLIGHT
TZOFFSETFROM:+0100
TZOFFSETTO:+0200
TZNAME:CEST
DTSTART:20250330T010000
END:DAYLIGHT
BEGIN:STANDARD
TZOFFSETFROM:+0200
TZOFFSETTO:+0100
TZNAME:CET
DTSTART:20251026T010000
END:STANDARD
BEGIN:DAYLIGHT
TZOFFSETFROM:+0100
TZOFFSETTO:+0200
TZNAME:CEST
DTSTART:20260329T010000
END:DAYLIGHT
BEGIN:STANDARD
TZOFFSETFROM:+0200
TZOFFSETTO:+0100
TZNAME:CET
DTSTART:20261025T010000
END:STANDARD
BEGIN:DAYLIGHT
TZOFFSETFROM:+0100
TZOFFSETTO:+0200
TZNAME:CEST
DTSTART:20270328T010000
END:DAYLIGHT
BEGIN:STANDARD
TZOFFSETFROM:+0200
TZOFFSETTO:+0100
TZNAME:CET
DTSTART:20271031T010000
END:STANDARD
END:VTIMEZONE
BEGIN:VEVENT
DTSTART;TZID=Europe/Paris:20260212T170000
DTEND;TZID=Europe/Paris:20260212T180000
DTSTAMP:20260419T164720
CREATED:20260127T094404Z
LAST-MODIFIED:20260127T094441Z
UID:1381-1770915600-1770919200@amis-et-correspondants-centre-international-blaise-pascal.fr
SUMMARY:Assemblée générale exercice 2025
DESCRIPTION:Jeudi 12 février 2026 à 17h\, MSH\, amphithéâtre 125\, 1er étage \n\n\n\n4 rue Ledru 63000 Clermont-Ferrand \n\n\n\nL’ordre du jour est le suivant : \n\n\n\n\nRapport moral de l’association des Amis et Correspondants du CIBP de l’année 2025 par le bureau de l’association (vote).\n\n\n\nCompte rendu financier de l’exercice 2025 par la trésorière et budget prévisionnel (vote).\n\n\n\nPoint sur les adhérents à jour de cotisation.\n\n\n\nRenouvellement des membres du bureau (vote).\n\n\n\nQuestions diverses. Programme des rencontres de 2026.\n\n\n\n\nÀ l’issue de l’Assemblée Générale\, le Courrier Blaise Pascal numéro 47 (2025) sera distribué aux adhérents à jour de cotisation
URL:https://amis-et-correspondants-centre-international-blaise-pascal.fr/event/assemblee-generale-exercice-2025/
LOCATION:MSH 4 rue Ledru\, Maison des Sciences de l'Homme\, Clermont-Ferrand\, 63000\, France
END:VEVENT
BEGIN:VEVENT
DTSTART;TZID=Europe/Paris:20260212T181500
DTEND;TZID=Europe/Paris:20260212T200000
DTSTAMP:20260419T164720
CREATED:20260127T094723Z
LAST-MODIFIED:20260127T094833Z
UID:1384-1770920100-1770926400@amis-et-correspondants-centre-international-blaise-pascal.fr
SUMMARY:Conférence « Pascal et le pyrrhonisme. Histoire d’un contre-sens ? » par Carlos Lévy
DESCRIPTION:« Pascal et le pyrrhonisme. Histoire d’un contre-sens ? » \nCarlos Lévy \nprofesseur émérite à Paris-Sorbonne\, \nmembre de l’Académie des Inscriptions et Belles-Lettres \n  \nJeudi 12 février 18h15 \nAmphithéâtre 125\, 1er étage de la Maison des Sciences de l’Homme \n4 rue Ledru 63000 Clermont-Ferrand
URL:https://amis-et-correspondants-centre-international-blaise-pascal.fr/event/conference-pascal-et-le-pyrrhonisme-histoire-dun-contre-sens-par-carlos-levy/
LOCATION:MSH 4 rue Ledru\, Maison des Sciences de l'Homme\, Clermont-Ferrand\, 63000\, France
END:VEVENT
END:VCALENDAR