BEGIN:VCALENDAR
VERSION:2.0
PRODID:-//Amis et correspondants du Centre International Blaise Pascal - ECPv6.15.12.2//NONSGML v1.0//EN
CALSCALE:GREGORIAN
METHOD:PUBLISH
X-WR-CALNAME:Amis et correspondants du Centre International Blaise Pascal
X-ORIGINAL-URL:https://amis-et-correspondants-centre-international-blaise-pascal.fr
X-WR-CALDESC:Évènements pour Amis et correspondants du Centre International Blaise Pascal
REFRESH-INTERVAL;VALUE=DURATION:PT1H
X-Robots-Tag:noindex
X-PUBLISHED-TTL:PT1H
BEGIN:VTIMEZONE
TZID:Europe/Paris
BEGIN:DAYLIGHT
TZOFFSETFROM:+0100
TZOFFSETTO:+0200
TZNAME:CEST
DTSTART:20220327T010000
END:DAYLIGHT
BEGIN:STANDARD
TZOFFSETFROM:+0200
TZOFFSETTO:+0100
TZNAME:CET
DTSTART:20221030T010000
END:STANDARD
BEGIN:DAYLIGHT
TZOFFSETFROM:+0100
TZOFFSETTO:+0200
TZNAME:CEST
DTSTART:20230326T010000
END:DAYLIGHT
BEGIN:STANDARD
TZOFFSETFROM:+0200
TZOFFSETTO:+0100
TZNAME:CET
DTSTART:20231029T010000
END:STANDARD
BEGIN:DAYLIGHT
TZOFFSETFROM:+0100
TZOFFSETTO:+0200
TZNAME:CEST
DTSTART:20240331T010000
END:DAYLIGHT
BEGIN:STANDARD
TZOFFSETFROM:+0200
TZOFFSETTO:+0100
TZNAME:CET
DTSTART:20241027T010000
END:STANDARD
END:VTIMEZONE
BEGIN:VEVENT
DTSTART;TZID=Europe/Paris:20230526T170000
DTEND;TZID=Europe/Paris:20230526T190000
DTSTAMP:20260425T023437
CREATED:20230507T103748Z
LAST-MODIFIED:20240130T100632Z
UID:522-1685120400-1685127600@amis-et-correspondants-centre-international-blaise-pascal.fr
SUMMARY:Conférence sur l'oeuvre de Blaise Pascal\, par Laurence Plazenet
DESCRIPTION:Vendredi 26 mai de 17h à 19h\, librairie des Volcans (80 Bd François Mitterand\, Clermont-Ferrand) \nConférence de Laurence Plazenet (Professeur\, Université Clermont Auvergne) sur l’oeuvre de Blaise Pascal aux éditions Bouquins dans le cadre des 400 ans de la naissance de Blaise Pascal. \nPascal\, éditions Bouquins\, sortie prévue le 1er juin 2023. \nLa conférence aura lieu à la librairie des Volcans et sera animée par Olivier Perrot.
URL:https://amis-et-correspondants-centre-international-blaise-pascal.fr/event/conference-sur-loeuvre-de-blaise-pascal-par-laurence-plazenet/
LOCATION:Librairie des Volcans\, 80 Bd François Mitterrand\, Clermont-Ferrand\, 63000\, France
CATEGORIES:400 ans Pascal
END:VEVENT
END:VCALENDAR