BEGIN:VCALENDAR
VERSION:2.0
PRODID:-//Amis et correspondants du Centre International Blaise Pascal - ECPv6.15.12.2//NONSGML v1.0//EN
CALSCALE:GREGORIAN
METHOD:PUBLISH
X-ORIGINAL-URL:https://amis-et-correspondants-centre-international-blaise-pascal.fr
X-WR-CALDESC:Évènements pour Amis et correspondants du Centre International Blaise Pascal
REFRESH-INTERVAL;VALUE=DURATION:PT1H
X-Robots-Tag:noindex
X-PUBLISHED-TTL:PT1H
BEGIN:VTIMEZONE
TZID:Europe/Paris
BEGIN:DAYLIGHT
TZOFFSETFROM:+0100
TZOFFSETTO:+0200
TZNAME:CEST
DTSTART:20220327T010000
END:DAYLIGHT
BEGIN:STANDARD
TZOFFSETFROM:+0200
TZOFFSETTO:+0100
TZNAME:CET
DTSTART:20221030T010000
END:STANDARD
BEGIN:DAYLIGHT
TZOFFSETFROM:+0100
TZOFFSETTO:+0200
TZNAME:CEST
DTSTART:20230326T010000
END:DAYLIGHT
BEGIN:STANDARD
TZOFFSETFROM:+0200
TZOFFSETTO:+0100
TZNAME:CET
DTSTART:20231029T010000
END:STANDARD
BEGIN:DAYLIGHT
TZOFFSETFROM:+0100
TZOFFSETTO:+0200
TZNAME:CEST
DTSTART:20240331T010000
END:DAYLIGHT
BEGIN:STANDARD
TZOFFSETFROM:+0200
TZOFFSETTO:+0100
TZNAME:CET
DTSTART:20241027T010000
END:STANDARD
END:VTIMEZONE
BEGIN:VEVENT
DTSTART;TZID=Europe/Paris:20230616T090000
DTEND;TZID=Europe/Paris:20230616T180000
DTSTAMP:20260424T182528
CREATED:20230527T140323Z
LAST-MODIFIED:20240130T100625Z
UID:591-1686906000-1686938400@amis-et-correspondants-centre-international-blaise-pascal.fr
SUMMARY:Actualité de la recherche pascalienne : « L’état où les hommes sont aujourd’hui » ?
DESCRIPTION:  \nActualité de la recherche pascalienne : \n« L’état où les hommes sont aujourd’hui » ? \n \nrencontre organisée par \nLaurence Plazenet \nCentre international Blaise Pascal \nIHRIM\, CNRS 5317 \n9h-12h30\, amphithéâtre 220\, Maison des Sciences de l’Homme à Clermont-Ferrand. \nLes publications relatives à Pascal\, plus ou moins informées\, plus ou moins justes\, ont toujours été extrêmement nombreuses. En 2023\, à l’occasion du 4e centenaire de l’auteur\, elles atteignent un degré rarement égalé. Opportunisme ? Nécessité ? Qu’y a-t-il encore à dire sur Pascal ? Pourquoi Pascal suscite-t-il autant d’intérêt ? Ces recherches obéissent-elles à une loi particulière ? Pourquoi lire et relire Pascal ? – Que dit la recherche pascalienne du monde dans lequel elle s’inscrit ? \nQuelques-uns des auteurs ayant activement participé à cette actualité seront réunis pour débattre de ces interrogations et répondre à celles du public. \nAvec la participation de : \nMarianne Alphant\, journaliste et essayiste\, auteur de Pascal. Tombeau pour un ordre (POL\, 2023) \nHubert Aupetit\, professeur de khâgne au Lycée Louis-le-Grand\, auteur de Pascal ou la pensée figurative (Fayard\, 2023) \nDominique Descotes\, professeur émérite à l’Université Clermont Auvergne\, président de l’Association des Amis et Correspondants du CIBP\, directeur de collection chez Champion \nAlberto Frigo\, professeur à l’Université de Milan\, auteur de Charité bien ordonnée. De saint Augustin à Goethe(Cerf\, 2021) \nChristophe Litwin\, maître de conférences à l’Université Paris Cité\, auteur de Politiques de l’amour de soi. La Boétie\, Montaigne et Pascal au démêlé (Classiques Garnier\, 2021) \nPierre Lyraud\, professeur-adjoint à l’Université de Montréal\, auteur de Pascal (Cerf\, 2023) et Pascal\, l’œuvre(Bouquins\, 2023) \nChristine Orban\, écrivain\, auteur de Soumise (Albin Michel\, 2023) \nLaurence Plazenet\, professeur à l’Université Clermont Auvergne\, directrice du CIBP\, présidente de la Société des Amis de Port-Royal\, directrice de la rédaction du Courrier Blaise Pascal\, auteur de Pascal\, l’œuvre (Bouquins\, 2023) \nIsabelle Schmitz\, directrice adjointe du Figaro Hors-série\, responsable du numéro spécial « Pascal » de mars 2023. \nLaurent Thirouin\, professeur émérite à l’Université Lyon 2\, auteur de Pascal ou le défaut de la méthode. Lecture des Pensées selon leur ordre (Champion\, 2023) \nSéminaire Pensées de Pascal : 13h30 – 18h\, Salle 28 de la MSH \n\n\n\nSéminaire Pascal\, en partenariat avec les doctorants de l’ED LLSHS de l’Université Clermont Auvergne. Communication de M. MIHARA (Japon) et examen de la liasse « Excellence ». Cette partie de la journée est proposée en format hybride : envoyer une demande à amis.cibp@gmail.com \n \n 
URL:https://amis-et-correspondants-centre-international-blaise-pascal.fr/event/actualite-de-la-recherche-pascalienne-letat-ou-les-hommes-sont-aujourdhui/
LOCATION:MSH\, 4 rue Ledru\, Clermont-Ferrand\, 63000\, France
CATEGORIES:400 ans Pascal,Journée d'étude
END:VEVENT
END:VCALENDAR