BEGIN:VCALENDAR
VERSION:2.0
PRODID:-//Amis et correspondants du Centre International Blaise Pascal - ECPv6.15.12.2//NONSGML v1.0//EN
CALSCALE:GREGORIAN
METHOD:PUBLISH
X-WR-CALNAME:Amis et correspondants du Centre International Blaise Pascal
X-ORIGINAL-URL:https://amis-et-correspondants-centre-international-blaise-pascal.fr
X-WR-CALDESC:Évènements pour Amis et correspondants du Centre International Blaise Pascal
REFRESH-INTERVAL;VALUE=DURATION:PT1H
X-Robots-Tag:noindex
X-PUBLISHED-TTL:PT1H
BEGIN:VTIMEZONE
TZID:Europe/Paris
BEGIN:DAYLIGHT
TZOFFSETFROM:+0100
TZOFFSETTO:+0200
TZNAME:CEST
DTSTART:20220327T010000
END:DAYLIGHT
BEGIN:STANDARD
TZOFFSETFROM:+0200
TZOFFSETTO:+0100
TZNAME:CET
DTSTART:20221030T010000
END:STANDARD
BEGIN:DAYLIGHT
TZOFFSETFROM:+0100
TZOFFSETTO:+0200
TZNAME:CEST
DTSTART:20230326T010000
END:DAYLIGHT
BEGIN:STANDARD
TZOFFSETFROM:+0200
TZOFFSETTO:+0100
TZNAME:CET
DTSTART:20231029T010000
END:STANDARD
BEGIN:DAYLIGHT
TZOFFSETFROM:+0100
TZOFFSETTO:+0200
TZNAME:CEST
DTSTART:20240331T010000
END:DAYLIGHT
BEGIN:STANDARD
TZOFFSETFROM:+0200
TZOFFSETTO:+0100
TZNAME:CET
DTSTART:20241027T010000
END:STANDARD
END:VTIMEZONE
BEGIN:VEVENT
DTSTART;TZID=Europe/Paris:20230525T180000
DTEND;TZID=Europe/Paris:20230525T200000
DTSTAMP:20260425T130351
CREATED:20230501T204849Z
LAST-MODIFIED:20240130T100640Z
UID:368-1685037600-1685044800@amis-et-correspondants-centre-international-blaise-pascal.fr
SUMMARY:Conférence de Gérard Ferreyrolles "Pascal : l'histoire a-t-elle un sens ?"
DESCRIPTION:Cycle des conférences pascaliennes organisées par le Centre international Blaise Pascal – IHRIM\, dans le cadre du 4e Centenaire de la naissance de Pascal. \nLa conférence a lieu de 18h à 20h dans l’amphithéâtre du Lycée Blaise Pascal. \nAccès à l’enregistrement de la conférence de Gérard Ferreyrolles \nLes Conférences sont enregistrées et diffusées sur la page YouTube « Les Minutes de Port-Royal » : \nPlaylist “Cycles des conférences pascaliennes”\, chaîne Youtube “Les Minutes de Port-Royal”
URL:https://amis-et-correspondants-centre-international-blaise-pascal.fr/event/conference-de-gerard-ferreyrolles-pascal-lhistoire-a-t-elle-un-sens/
LOCATION:Amphithéatre Lycée Blaise Pascal\, 70 avenue Carnot\, Clermont-Ferrand\, 63000\, France
CATEGORIES:Cycle des conférences pascaliennes
END:VEVENT
END:VCALENDAR